BEGIN:VCALENDAR
VERSION:2.0
PRODID:-//Energieheilung Andrea Weiler - ECPv6.15.20//NONSGML v1.0//EN
CALSCALE:GREGORIAN
METHOD:PUBLISH
X-ORIGINAL-URL:https://www.energieheilung-andrea-weiler.de
X-WR-CALDESC:Veranstaltungen für Energieheilung Andrea Weiler
REFRESH-INTERVAL;VALUE=DURATION:PT1H
X-Robots-Tag:noindex
X-PUBLISHED-TTL:PT1H
BEGIN:VTIMEZONE
TZID:Europe/Berlin
BEGIN:DAYLIGHT
TZOFFSETFROM:+0100
TZOFFSETTO:+0200
TZNAME:CEST
DTSTART:20230326T010000
END:DAYLIGHT
BEGIN:STANDARD
TZOFFSETFROM:+0200
TZOFFSETTO:+0100
TZNAME:CET
DTSTART:20231029T010000
END:STANDARD
BEGIN:DAYLIGHT
TZOFFSETFROM:+0100
TZOFFSETTO:+0200
TZNAME:CEST
DTSTART:20240331T010000
END:DAYLIGHT
BEGIN:STANDARD
TZOFFSETFROM:+0200
TZOFFSETTO:+0100
TZNAME:CET
DTSTART:20241027T010000
END:STANDARD
BEGIN:DAYLIGHT
TZOFFSETFROM:+0100
TZOFFSETTO:+0200
TZNAME:CEST
DTSTART:20250330T010000
END:DAYLIGHT
BEGIN:STANDARD
TZOFFSETFROM:+0200
TZOFFSETTO:+0100
TZNAME:CET
DTSTART:20251026T010000
END:STANDARD
END:VTIMEZONE
BEGIN:VEVENT
DTSTART;VALUE=DATE:20241228
DTEND;VALUE=DATE:20241230
DTSTAMP:20260424T041328
CREATED:20240827T114501Z
LAST-MODIFIED:20241121T134810Z
UID:4134-1735344000-1735516799@www.energieheilung-andrea-weiler.de
SUMMARY:Pendelseminar- Ausgebucht
DESCRIPTION:Heilpendeln – Radiästhesie im Süden von Deutschland\n\n\n \nPendelseminar-Andrea-Weiler \n\nPendelseminar-Andrea-Weiler\n\nAusgebucht\n2 Tage – Pendelseminar mit Pendel von BAJ\, Theorie und Praxis – Heilpendeln und Strahlensuche (Bett und Haus)\n\nNEU wir pendeln auch mit dem Lichtkristallpendel. Mehr dazu findest du HIER\nPendelseminar Sa. und So. 2024 zwischen Memmingen (20 km) und Ulm (34 km)\, an der Autobahn A 7 – 65 km vom Bodensee und der Schweiz. Pendeln erlernen. \nM
URL:https://www.energieheilung-andrea-weiler.de/veranstaltung/pendelseminar-10/
LOCATION:Pendelseminar\, Rechbergring 5\, Kellmünz\, Bayern\, 89293\, Deutschland
CATEGORIES:Bewusstseinsentwicklung,Blockaden lösen,Pendelseminar
ATTACH;FMTTYPE=image/jpeg:https://www.energieheilung-andrea-weiler.de/wp-content/uploads/2023/07/Pendelseminar-Andrea-Weiler-1.jpg
ORGANIZER;CN="Andrea Weiler Institut f%C3%BCr Energiearbeit%2C Rechbergring 5%2C 89293 Kellm%C3%BCnz a. d. Iller%2C Tel.%3A 08337-900 %C2%A080 21":MAILTO:mail@energieheilung-andrea-weiler.de
END:VEVENT
END:VCALENDAR